Package: IRanges Version: 2.40.0 Command: /Library/Frameworks/R.framework/Resources/bin/R CMD INSTALL IRanges StartedAt: 2024-11-19 15:05:57 -0500 (Tue, 19 Nov 2024) EndedAt: 2024-11-19 15:06:56 -0500 (Tue, 19 Nov 2024) EllapsedTime: 58.1 seconds RetCode: 0 Status: OK