Package: IONiseR Version: 2.30.0 Command: /home/biocbuild/R/R/bin/R CMD INSTALL IONiseR StartedAt: 2025-01-30 20:30:51 -0000 (Thu, 30 Jan 2025) EndedAt: 2025-01-30 20:31:31 -0000 (Thu, 30 Jan 2025) EllapsedTime: 40.6 seconds RetCode: 0 Status: OK