Package: IONiseR Version: 2.30.0 Command: /home/biocbuild/R/R/bin/R CMD check --install=check:IONiseR.install-out.txt --library=/home/biocbuild/R/R/site-library --no-vignettes --timings IONiseR_2.30.0.tar.gz StartedAt: 2025-01-31 07:24:11 -0000 (Fri, 31 Jan 2025) EndedAt: 2025-01-31 07:29:08 -0000 (Fri, 31 Jan 2025) EllapsedTime: 297.3 seconds RetCode: 0 Status: OK CheckDir: IONiseR.Rcheck Warnings: 0