Package: IONiseR Version: 2.30.0 Command: F:\biocbuild\bbs-3.20-bioc\R\bin\R.exe CMD INSTALL IONiseR StartedAt: 2025-01-30 16:37:46 -0500 (Thu, 30 Jan 2025) EndedAt: 2025-01-30 16:38:34 -0500 (Thu, 30 Jan 2025) EllapsedTime: 47.5 seconds RetCode: 0 Status: OK