Package: IONiseR Version: 2.30.0 Command: /Library/Frameworks/R.framework/Resources/bin/R CMD build --keep-empty-dirs --no-resave-data IONiseR StartedAt: 2025-01-30 20:03:54 -0500 (Thu, 30 Jan 2025) EndedAt: 2025-01-30 20:07:40 -0500 (Thu, 30 Jan 2025) EllapsedTime: 226.1 seconds RetCode: 0 Status: OK PackageFile: IONiseR_2.30.0.tar.gz PackageFileSize: 4.182 MiB