Package: IONiseR Version: 2.30.0 Command: rm -rf IONiseR.buildbin-libdir && mkdir IONiseR.buildbin-libdir && /Users/biocbuild/BBS/utils/build-universal.sh IONiseR_2.30.0.tar.gz /Library/Frameworks/R.framework/Resources/bin/R IONiseR.buildbin-libdir StartedAt: 2024-11-20 04:32:37 -0500 (Wed, 20 Nov 2024) EndedAt: 2024-11-20 04:33:30 -0500 (Wed, 20 Nov 2024) EllapsedTime: 53.9 seconds RetCode: 0 Status: OK PackageFile: IONiseR_2.30.0.tgz PackageFileSize: 4.297 MiB