Package: IONiseR Version: 2.30.0 Command: /Library/Frameworks/R.framework/Resources/bin/R CMD INSTALL IONiseR StartedAt: 2025-01-30 16:33:40 -0500 (Thu, 30 Jan 2025) EndedAt: 2025-01-30 16:34:20 -0500 (Thu, 30 Jan 2025) EllapsedTime: 39.8 seconds RetCode: 0 Status: OK