Package: IONiseR Version: 2.30.0 Command: /Library/Frameworks/R.framework/Resources/bin/R CMD check --install=check:IONiseR.install-out.txt --library=/Library/Frameworks/R.framework/Resources/library --no-vignettes --timings IONiseR_2.30.0.tar.gz StartedAt: 2025-01-31 22:51:08 -0500 (Fri, 31 Jan 2025) EndedAt: 2025-01-31 22:56:04 -0500 (Fri, 31 Jan 2025) EllapsedTime: 296.5 seconds RetCode: 0 Status: OK CheckDir: IONiseR.Rcheck Warnings: 0