Package: IMMAN Version: 1.26.0 Command: /home/biocbuild/R/R/bin/R CMD build --keep-empty-dirs --no-resave-data IMMAN StartedAt: 2025-01-31 00:22:58 -0000 (Fri, 31 Jan 2025) EndedAt: 2025-01-31 00:26:23 -0000 (Fri, 31 Jan 2025) EllapsedTime: 205.2 seconds RetCode: 0 Status: OK PackageFile: IMMAN_1.26.0.tar.gz PackageFileSize: 31.35 KiB