Package: IMMAN Version: 1.26.0 Command: /home/biocbuild/bbs-3.20-bioc/R/bin/R CMD build --keep-empty-dirs --no-resave-data --md5 IMMAN StartedAt: 2025-01-30 17:43:02 -0500 (Thu, 30 Jan 2025) EndedAt: 2025-01-30 17:45:44 -0500 (Thu, 30 Jan 2025) EllapsedTime: 162.1 seconds RetCode: 0 Status: OK PackageFile: IMMAN_1.26.0.tar.gz PackageFileSize: 45.41 KiB