Package: ILoReg Version: 1.16.0 Command: /home/biocbuild/bbs-3.20-bioc/R/bin/R CMD check --install=check:ILoReg.install-out.txt --library=/home/biocbuild/bbs-3.20-bioc/R/site-library --timings ILoReg_1.16.0.tar.gz StartedAt: 2025-01-30 23:10:05 -0500 (Thu, 30 Jan 2025) EndedAt: 2025-01-30 23:16:42 -0500 (Thu, 30 Jan 2025) EllapsedTime: 397.4 seconds RetCode: 0 Status: WARNINGS CheckDir: ILoReg.Rcheck Warnings: 2