Package: IHW Version: 1.34.0 Command: /home/biocbuild/bbs-3.20-bioc/R/bin/R CMD build --keep-empty-dirs --no-resave-data --md5 IHW StartedAt: 2025-01-30 17:42:38 -0500 (Thu, 30 Jan 2025) EndedAt: 2025-01-30 17:44:27 -0500 (Thu, 30 Jan 2025) EllapsedTime: 109.1 seconds RetCode: 0 Status: OK PackageFile: IHW_1.34.0.tar.gz PackageFileSize: 4.089 MiB