Package: IHW Version: 1.34.0 Command: /Library/Frameworks/R.framework/Resources/bin/R CMD INSTALL IHW StartedAt: 2025-01-30 15:31:50 -0500 (Thu, 30 Jan 2025) EndedAt: 2025-01-30 15:32:01 -0500 (Thu, 30 Jan 2025) EllapsedTime: 10.8 seconds RetCode: 0 Status: OK