Package: IHW Version: 1.34.0 Command: /Library/Frameworks/R.framework/Resources/bin/R CMD build --keep-empty-dirs --no-resave-data IHW StartedAt: 2025-01-30 19:58:13 -0500 (Thu, 30 Jan 2025) EndedAt: 2025-01-30 20:03:41 -0500 (Thu, 30 Jan 2025) EllapsedTime: 327.8 seconds RetCode: 0 Status: OK PackageFile: IHW_1.34.0.tar.gz PackageFileSize: 4.698 MiB