Package: HubPub Version: 1.14.0 Command: /home/biocbuild/R/R/bin/R CMD build --keep-empty-dirs --no-resave-data HubPub StartedAt: 2025-01-31 00:20:15 -0000 (Fri, 31 Jan 2025) EndedAt: 2025-01-31 00:20:59 -0000 (Fri, 31 Jan 2025) EllapsedTime: 44.0 seconds RetCode: 0 Status: OK PackageFile: HubPub_1.14.0.tar.gz PackageFileSize: 1.386 MiB