Package: HubPub Version: 1.14.0 Command: /Library/Frameworks/R.framework/Resources/bin/R CMD INSTALL HubPub StartedAt: 2025-01-30 16:33:34 -0500 (Thu, 30 Jan 2025) EndedAt: 2025-01-30 16:33:38 -0500 (Thu, 30 Jan 2025) EllapsedTime: 4.3 seconds RetCode: 0 Status: OK