Package: HubPub Version: 1.14.0 Command: /Library/Frameworks/R.framework/Resources/bin/R CMD build --keep-empty-dirs --no-resave-data HubPub StartedAt: 2025-01-31 01:34:29 -0500 (Fri, 31 Jan 2025) EndedAt: 2025-01-31 01:35:14 -0500 (Fri, 31 Jan 2025) EllapsedTime: 45.0 seconds RetCode: 0 Status: OK PackageFile: HubPub_1.14.0.tar.gz PackageFileSize: 1.3 MiB