Package: HuBMAPR Version: 1.0.7 Command: /Library/Frameworks/R.framework/Resources/bin/R CMD INSTALL HuBMAPR StartedAt: 2025-01-30 15:13:51 -0500 (Thu, 30 Jan 2025) EndedAt: 2025-01-30 15:14:07 -0500 (Thu, 30 Jan 2025) EllapsedTime: 15.4 seconds RetCode: 0 Status: OK