Package: HuBMAPR Version: 1.0.7 Command: /Library/Frameworks/R.framework/Resources/bin/R CMD check --install=check:HuBMAPR.install-out.txt --library=/Library/Frameworks/R.framework/Resources/library --no-vignettes --timings HuBMAPR_1.0.7.tar.gz StartedAt: 2025-01-31 05:12:05 -0500 (Fri, 31 Jan 2025) EndedAt: 2025-01-31 05:14:07 -0500 (Fri, 31 Jan 2025) EllapsedTime: 121.9 seconds RetCode: 0 Status: OK CheckDir: HuBMAPR.Rcheck Warnings: 0