Package: HuBMAPR Version: 1.0.7 Command: rm -rf HuBMAPR.buildbin-libdir && mkdir HuBMAPR.buildbin-libdir && /Users/biocbuild/BBS/utils/build-universal.sh HuBMAPR_1.0.7.tar.gz /Library/Frameworks/R.framework/Resources/bin/R HuBMAPR.buildbin-libdir StartedAt: 2025-01-31 12:59:04 -0500 (Fri, 31 Jan 2025) EndedAt: 2025-01-31 12:59:14 -0500 (Fri, 31 Jan 2025) EllapsedTime: 10.4 seconds RetCode: 0 Status: OK PackageFile: HuBMAPR_1.0.7.tgz PackageFileSize: 1.412 MiB