Package: HoloFoodR Version: 1.0.0 Command: F:\biocbuild\bbs-3.20-bioc\R\bin\R.exe CMD INSTALL HoloFoodR StartedAt: 2025-01-30 16:07:18 -0500 (Thu, 30 Jan 2025) EndedAt: 2025-01-30 16:07:59 -0500 (Thu, 30 Jan 2025) EllapsedTime: 41.0 seconds RetCode: 0 Status: OK