Package: HoloFoodR Version: 1.0.0 Command: chmod a+r HoloFoodR -R && F:\biocbuild\bbs-3.20-bioc\R\bin\R.exe CMD build --keep-empty-dirs --no-resave-data HoloFoodR StartedAt: 2025-01-30 19:31:13 -0500 (Thu, 30 Jan 2025) EndedAt: 2025-01-30 19:34:56 -0500 (Thu, 30 Jan 2025) EllapsedTime: 222.6 seconds RetCode: 0 Status: OK PackageFile: HoloFoodR_1.0.0.tar.gz PackageFileSize: 2.966 MiB