Package: HoloFoodR Version: 1.0.0 Command: /home/biocbuild/bbs-3.20-bioc/R/bin/R CMD INSTALL HoloFoodR StartedAt: 2025-01-30 15:27:31 -0500 (Thu, 30 Jan 2025) EndedAt: 2025-01-30 15:28:00 -0500 (Thu, 30 Jan 2025) EllapsedTime: 28.4 seconds RetCode: 0 Status: OK