Package: HoloFoodR Version: 1.0.0 Command: /home/biocbuild/bbs-3.20-bioc/R/bin/R CMD build --keep-empty-dirs --no-resave-data --md5 HoloFoodR StartedAt: 2025-01-30 17:40:08 -0500 (Thu, 30 Jan 2025) EndedAt: 2025-01-30 17:49:17 -0500 (Thu, 30 Jan 2025) EllapsedTime: 548.7 seconds RetCode: 0 Status: OK PackageFile: HoloFoodR_1.0.0.tar.gz PackageFileSize: 2.968 MiB