Package: HoloFoodR Version: 1.0.0 Command: rm -rf HoloFoodR.buildbin-libdir && mkdir HoloFoodR.buildbin-libdir && /Users/biocbuild/BBS/utils/build-universal.sh HoloFoodR_1.0.0.tar.gz /Library/Frameworks/R.framework/Resources/bin/R HoloFoodR.buildbin-libdir StartedAt: 2025-01-31 12:58:54 -0500 (Fri, 31 Jan 2025) EndedAt: 2025-01-31 13:00:01 -0500 (Fri, 31 Jan 2025) EllapsedTime: 67.3 seconds RetCode: 0 Status: OK PackageFile: HoloFoodR_1.0.0.tgz PackageFileSize: 3.022 MiB