Package: HoloFoodR Version: 1.0.0 Command: /Library/Frameworks/R.framework/Resources/bin/R CMD INSTALL HoloFoodR StartedAt: 2025-01-30 16:23:09 -0500 (Thu, 30 Jan 2025) EndedAt: 2025-01-30 16:23:46 -0500 (Thu, 30 Jan 2025) EllapsedTime: 36.6 seconds RetCode: 0 Status: OK