Package: HoloFoodR Version: 1.0.0 Command: /Library/Frameworks/R.framework/Resources/bin/R CMD build --keep-empty-dirs --no-resave-data HoloFoodR StartedAt: 2025-01-31 01:32:15 -0500 (Fri, 31 Jan 2025) EndedAt: 2025-01-31 01:34:29 -0500 (Fri, 31 Jan 2025) EllapsedTime: 134.2 seconds RetCode: 0 Status: OK PackageFile: HoloFoodR_1.0.0.tar.gz PackageFileSize: 2.966 MiB