Package: HiCBricks Version: 1.24.0 Command: F:\biocbuild\bbs-3.20-bioc\R\bin\R.exe CMD check --no-multiarch --install=check:HiCBricks.install-out.txt --library=F:\biocbuild\bbs-3.20-bioc\R\library --no-vignettes --timings HiCBricks_1.24.0.tar.gz StartedAt: 2025-01-31 02:51:52 -0500 (Fri, 31 Jan 2025) EndedAt: 2025-01-31 02:56:46 -0500 (Fri, 31 Jan 2025) EllapsedTime: 293.5 seconds RetCode: 0 Status: OK CheckDir: HiCBricks.Rcheck Warnings: 0