Package: HiCBricks Version: 1.24.0 Command: /Library/Frameworks/R.framework/Resources/bin/R CMD INSTALL HiCBricks StartedAt: 2025-01-30 15:48:50 -0500 (Thu, 30 Jan 2025) EndedAt: 2025-01-30 15:49:28 -0500 (Thu, 30 Jan 2025) EllapsedTime: 38.1 seconds RetCode: 0 Status: OK