Package: HarmonizR Version: 1.4.0 Command: F:\biocbuild\bbs-3.20-bioc\R\bin\R.exe CMD check --no-multiarch --install=check:HarmonizR.install-out.txt --library=F:\biocbuild\bbs-3.20-bioc\R\library --no-vignettes --timings HarmonizR_1.4.0.tar.gz StartedAt: 2025-01-31 02:48:14 -0500 (Fri, 31 Jan 2025) EndedAt: 2025-01-31 02:49:36 -0500 (Fri, 31 Jan 2025) EllapsedTime: 82.1 seconds RetCode: 0 Status: OK CheckDir: HarmonizR.Rcheck Warnings: 0