Package: HarmonizR Version: 1.4.0 Command: chmod a+r HarmonizR -R && F:\biocbuild\bbs-3.20-bioc\R\bin\R.exe CMD build --keep-empty-dirs --no-resave-data HarmonizR StartedAt: 2025-01-30 19:26:26 -0500 (Thu, 30 Jan 2025) EndedAt: 2025-01-30 19:26:59 -0500 (Thu, 30 Jan 2025) EllapsedTime: 32.9 seconds RetCode: 0 Status: OK PackageFile: HarmonizR_1.4.0.tar.gz PackageFileSize: 49.82 KiB