Package: HIPPO Version: 1.18.0 Command: F:\biocbuild\bbs-3.20-bioc\R\bin\R.exe CMD INSTALL HIPPO StartedAt: 2025-01-30 16:02:43 -0500 (Thu, 30 Jan 2025) EndedAt: 2025-01-30 16:03:15 -0500 (Thu, 30 Jan 2025) EllapsedTime: 32.7 seconds RetCode: 0 Status: OK