Package: HIPPO Version: 1.18.0 Command: chmod a+r HIPPO -R && F:\biocbuild\bbs-3.20-bioc\R\bin\R.exe CMD build --keep-empty-dirs --no-resave-data HIPPO StartedAt: 2025-01-30 19:29:56 -0500 (Thu, 30 Jan 2025) EndedAt: 2025-01-30 19:31:29 -0500 (Thu, 30 Jan 2025) EllapsedTime: 92.9 seconds RetCode: 0 Status: OK PackageFile: HIPPO_1.18.0.tar.gz PackageFileSize: 508.1 KiB