Package: HGC Version: 1.14.0 Command: /home/biocbuild/R/R/bin/R CMD INSTALL HGC StartedAt: 2025-01-30 20:31:56 -0000 (Thu, 30 Jan 2025) EndedAt: 2025-01-30 20:32:45 -0000 (Thu, 30 Jan 2025) EllapsedTime: 48.8 seconds RetCode: 0 Status: OK