Package: HELP Version: 1.64.0 Command: rm -rf HELP.buildbin-libdir && mkdir HELP.buildbin-libdir && F:\biocbuild\bbs-3.20-bioc\R\bin\R.exe CMD INSTALL --build --library=HELP.buildbin-libdir HELP_1.64.0.tar.gz StartedAt: 2025-01-31 08:49:22 -0500 (Fri, 31 Jan 2025) EndedAt: 2025-01-31 08:49:49 -0500 (Fri, 31 Jan 2025) EllapsedTime: 27.3 seconds RetCode: 0 Status: OK PackageFile: HELP_1.64.0.zip PackageFileSize: 1.014 MiB