Package: HDTD Version: 1.40.0 Command: /home/biocbuild/R/R/bin/R CMD INSTALL HDTD StartedAt: 2025-01-30 20:07:43 -0000 (Thu, 30 Jan 2025) EndedAt: 2025-01-30 20:08:25 -0000 (Thu, 30 Jan 2025) EllapsedTime: 41.9 seconds RetCode: 0 Status: OK