Package: HDTD Version: 1.40.0 Command: /home/biocbuild/R/R/bin/R CMD build --keep-empty-dirs --no-resave-data HDTD StartedAt: 2025-01-31 00:14:30 -0000 (Fri, 31 Jan 2025) EndedAt: 2025-01-31 00:15:04 -0000 (Fri, 31 Jan 2025) EllapsedTime: 34.0 seconds RetCode: 0 Status: OK PackageFile: HDTD_1.40.0.tar.gz PackageFileSize: 163.7 KiB