Package: HDTD Version: 1.40.0 Command: chmod a+r HDTD -R && F:\biocbuild\bbs-3.20-bioc\R\bin\R.exe CMD build --keep-empty-dirs --no-resave-data HDTD StartedAt: 2025-01-30 19:27:00 -0500 (Thu, 30 Jan 2025) EndedAt: 2025-01-30 19:27:34 -0500 (Thu, 30 Jan 2025) EllapsedTime: 34.4 seconds RetCode: 0 Status: OK PackageFile: HDTD_1.40.0.tar.gz PackageFileSize: 162.8 KiB