Package: HDF5Array Version: 1.34.0 Command: rm -rf HDF5Array.buildbin-libdir && mkdir HDF5Array.buildbin-libdir && /Users/biocbuild/BBS/utils/build-universal.sh HDF5Array_1.34.0.tar.gz /Library/Frameworks/R.framework/Resources/bin/R HDF5Array.buildbin-libdir StartedAt: 2025-01-31 12:57:22 -0500 (Fri, 31 Jan 2025) EndedAt: 2025-01-31 12:58:26 -0500 (Fri, 31 Jan 2025) EllapsedTime: 63.9 seconds RetCode: 0 Status: OK PackageFile: HDF5Array_1.34.0.tgz PackageFileSize: 11.5 MiB