Package: GraphAlignment Version: 1.70.0 Command: /Library/Frameworks/R.framework/Resources/bin/R CMD INSTALL GraphAlignment StartedAt: 2025-01-30 15:06:09 -0500 (Thu, 30 Jan 2025) EndedAt: 2025-01-30 15:06:26 -0500 (Thu, 30 Jan 2025) EllapsedTime: 16.9 seconds RetCode: 0 Status: OK