Package: GraphAlignment Version: 1.70.0 Command: /Library/Frameworks/R.framework/Resources/bin/R CMD check --install=check:GraphAlignment.install-out.txt --library=/Library/Frameworks/R.framework/Resources/library --no-vignettes --timings GraphAlignment_1.70.0.tar.gz StartedAt: 2025-01-31 21:21:42 -0500 (Fri, 31 Jan 2025) EndedAt: 2025-01-31 21:22:05 -0500 (Fri, 31 Jan 2025) EllapsedTime: 23.3 seconds RetCode: 0 Status: OK CheckDir: GraphAlignment.Rcheck Warnings: 0