Package: GraphAlignment Version: 1.70.0 Command: /Library/Frameworks/R.framework/Resources/bin/R CMD build --keep-empty-dirs --no-resave-data GraphAlignment StartedAt: 2025-01-31 00:58:48 -0500 (Fri, 31 Jan 2025) EndedAt: 2025-01-31 00:59:01 -0500 (Fri, 31 Jan 2025) EllapsedTime: 13.6 seconds RetCode: 0 Status: OK PackageFile: GraphAlignment_1.70.0.tar.gz PackageFileSize: 591.5 KiB