Package: GraphAT Version: 1.78.0 Command: /Library/Frameworks/R.framework/Resources/bin/R CMD INSTALL GraphAT StartedAt: 2025-01-30 16:20:31 -0500 (Thu, 30 Jan 2025) EndedAt: 2025-01-30 16:20:47 -0500 (Thu, 30 Jan 2025) EllapsedTime: 16.6 seconds RetCode: 0 Status: OK