Package: GraphAT Version: 1.78.0 Command: /Library/Frameworks/R.framework/Resources/bin/R CMD build --keep-empty-dirs --no-resave-data GraphAT StartedAt: 2025-01-30 19:35:32 -0500 (Thu, 30 Jan 2025) EndedAt: 2025-01-30 19:35:36 -0500 (Thu, 30 Jan 2025) EllapsedTime: 4.4 seconds RetCode: 0 Status: OK PackageFile: GraphAT_1.78.0.tar.gz PackageFileSize: 1.884 MiB