Package: GrafGen Version: 1.2.0 Command: /home/biocbuild/R/R/bin/R CMD build --keep-empty-dirs --no-resave-data GrafGen StartedAt: 2025-01-31 00:05:16 -0000 (Fri, 31 Jan 2025) EndedAt: 2025-01-31 00:06:02 -0000 (Fri, 31 Jan 2025) EllapsedTime: 46.0 seconds RetCode: 0 Status: OK PackageFile: GrafGen_1.2.0.tar.gz PackageFileSize: 3.022 MiB