Package: GmicR Version: 1.20.0 Command: /home/biocbuild/bbs-3.20-bioc/R/bin/R CMD check --install=check:GmicR.install-out.txt --library=/home/biocbuild/bbs-3.20-bioc/R/site-library --timings GmicR_1.20.0.tar.gz StartedAt: 2025-01-30 22:42:04 -0500 (Thu, 30 Jan 2025) EndedAt: 2025-01-30 23:05:21 -0500 (Thu, 30 Jan 2025) EllapsedTime: 1397.7 seconds RetCode: 0 Status: WARNINGS CheckDir: GmicR.Rcheck Warnings: 1