Package: GmicR Version: 1.20.0 Command: /Library/Frameworks/R.framework/Resources/bin/R CMD INSTALL GmicR StartedAt: 2025-01-30 16:17:24 -0500 (Thu, 30 Jan 2025) EndedAt: 2025-01-30 16:18:24 -0500 (Thu, 30 Jan 2025) EllapsedTime: 59.8 seconds RetCode: 0 Status: OK