Package: GlobalAncova Version: 4.24.0 Command: F:\biocbuild\bbs-3.20-bioc\R\bin\R.exe CMD INSTALL GlobalAncova StartedAt: 2025-01-30 16:35:09 -0500 (Thu, 30 Jan 2025) EndedAt: 2025-01-30 16:36:09 -0500 (Thu, 30 Jan 2025) EllapsedTime: 60.1 seconds RetCode: 0 Status: OK