Package: GladiaTOX Version: 1.22.0 Command: /home/biocbuild/bbs-3.20-bioc/R/bin/R CMD INSTALL GladiaTOX StartedAt: 2025-01-30 15:15:48 -0500 (Thu, 30 Jan 2025) EndedAt: 2025-01-30 15:15:59 -0500 (Thu, 30 Jan 2025) EllapsedTime: 10.4 seconds RetCode: 0 Status: OK