Package: GeomxTools Version: 3.10.0 Command: /home/biocbuild/R/R/bin/R CMD INSTALL GeomxTools StartedAt: 2025-01-30 20:40:27 -0000 (Thu, 30 Jan 2025) EndedAt: 2025-01-30 20:41:01 -0000 (Thu, 30 Jan 2025) EllapsedTime: 34.7 seconds RetCode: 0 Status: OK